BEGIN:VCALENDAR
VERSION:2.0
PRODID:-//Tukios.com/
BEGIN:VEVENT
UID:b1550f96-dd05-44b7-8a1a-82d3c9b4a52a@www.boxwellbrothers.com
DTSTAMP:20260425T230653Z
DTSTART:20260427T150000Z
DTEND:20260427T160000Z
SUMMARY:Funeral Service
DESCRIPTION:
URL:https://www.boxwellbrothers.com/obituaries/joe-linger
LOCATION:First Baptist Church of Vega 110 South Main Street  Vega TX 
	79092
GEO:35.2467426;-102.4286404
END:VEVENT
END:VCALENDAR