BEGIN:VCALENDAR
VERSION:2.0
PRODID:-//Tukios.com/
BEGIN:VEVENT
UID:28db7c80-4e0e-4fbe-a14c-8b90b800593b@www.boxwellbrothers.com
DTSTAMP:20260423T195420Z
DTSTART:20260426T180000Z
DTEND:20260426T220000Z
SUMMARY:Visitation
DESCRIPTION:
URL:https://www.boxwellbrothers.com/obituaries/jolee-turpin-micheau
LOCATION: 110 S Main St  Vega TX 79092
GEO:35.2467311;-102.4286094
END:VEVENT
END:VCALENDAR