BEGIN:VCALENDAR
VERSION:2.0
PRODID:-//Tukios.com/
BEGIN:VEVENT
UID:0d5ab953-4ad6-40f9-aac1-86f8200b7fb0@www.boxwellbrothers.com
DTSTAMP:20260423T195420Z
DTSTART:20260427T190000Z
DTEND:20260427T200000Z
SUMMARY:Graveside Service
DESCRIPTION:
URL:https://www.boxwellbrothers.com/obituaries/jolee-turpin-micheau
LOCATION:   Vega TX 
GEO:35.2428319;-102.4282607
END:VEVENT
END:VCALENDAR