BEGIN:VCALENDAR
VERSION:2.0
PRODID:-//Tukios.com/
BEGIN:VEVENT
UID:a4a88888-1d19-4b96-a01c-825f8360a654@www.boxwellbrothers.com
DTSTAMP:20260423T224855Z
DTSTART:20260428T183000Z
DTEND:20260428T193000Z
SUMMARY:Memorial Service
DESCRIPTION:
URL:https://www.boxwellbrothers.com/obituaries/kenneth-drost
LOCATION: 2800 Paramount Blvd  Amarillo TX 79109
GEO:35.1830509;-101.8758092
END:VEVENT
END:VCALENDAR