BEGIN:VCALENDAR
VERSION:2.0
PRODID:-//Tukios.com/
BEGIN:VEVENT
UID:849e7589-ca79-4060-a845-7816f35c06cd@www.boxwellbrothers.com
DTSTAMP:20260423T212828Z
DTSTART:20260429T180000Z
DTEND:20260429T190000Z
SUMMARY:Funeral Service
DESCRIPTION:
URL:https://www.boxwellbrothers.com/obituaries/lahroy-white-jr-md
LOCATION:First Presbyterian Church 1100 S Harrison St  Amarillo TX 79101
GEO:35.2026248;-101.841241
END:VEVENT
END:VCALENDAR