BEGIN:VCALENDAR
VERSION:2.0
PRODID:-//Tukios.com/
BEGIN:VEVENT
UID:1b7e7175-a615-485f-b1ba-a652de892336@www.boxwellbrothers.com
DTSTAMP:20260419T194615Z
DTSTART:20260422T150000Z
DTEND:20260422T160000Z
SUMMARY:Memorial Service
DESCRIPTION:
URL:https://www.boxwellbrothers.com/obituaries/landrum-medlock-iii
LOCATION:Faith Southwest Church 4415 Wesley Road  Amarillo TX 79121
GEO:35.1623895;-101.9334261
END:VEVENT
END:VCALENDAR