BEGIN:VCALENDAR
VERSION:2.0
PRODID:-//Tukios.com/
BEGIN:VEVENT
UID:d55115fc-c035-47d5-b51d-86cc4ed271b1@www.boxwellbrothers.com
DTSTAMP:20260424T212203Z
DTSTART:20260427T180000Z
DTEND:20260427T190000Z
SUMMARY:Funeral Service
DESCRIPTION:
URL:https://www.boxwellbrothers.com/obituaries/mary-key
LOCATION:Boxwell Brothers Memorial Chapel 500 North Maddox Avenue  Dumas 
	TX 79029
GEO:35.8746265;-101.9630561
END:VEVENT
END:VCALENDAR