BEGIN:VCALENDAR
VERSION:2.0
PRODID:-//Tukios.com/
BEGIN:VEVENT
UID:876019d6-418d-433a-bad1-c34a9062330d@www.boxwellbrothers.com
DTSTAMP:20260424T211552Z
DTSTART:20260427T190000Z
DTEND:20260427T200000Z
SUMMARY:Burial
DESCRIPTION:
URL:https://www.boxwellbrothers.com/obituaries/mary-key
LOCATION: 500 East 1st Street  Dumas TX 
GEO:35.8657068;-101.9663673
END:VEVENT
END:VCALENDAR