BEGIN:VCALENDAR
VERSION:2.0
PRODID:-//Tukios.com/
BEGIN:VEVENT
UID:e779ed1d-4814-4250-8e09-5a803752cc2d@www.boxwellbrothers.com
DTSTAMP:20260421T153715Z
DTSTART:20260425T150000Z
DTEND:20260425T160000Z
SUMMARY:Graveside Service
DESCRIPTION:
URL:https://www.boxwellbrothers.com/obituaries/mary-lou-mcgregor
LOCATION:Llano Cemetery 2900 S Hayes St  Amarillo TX 79103
GEO:35.1826658;-101.8312611
END:VEVENT
END:VCALENDAR