BEGIN:VCALENDAR
VERSION:2.0
PRODID:-//Tukios.com/
BEGIN:VEVENT
UID:f848a015-9acb-42f8-9605-ab1babc10112@www.boxwellbrothers.com
DTSTAMP:20260422T204100Z
DTSTART:20260424T160000Z
DTEND:20260424T170000Z
SUMMARY:Graveside Service
DESCRIPTION:
URL:https://www.boxwellbrothers.com/obituaries/minta-lyn-boyd-2026
LOCATION:Dumas Cemetery Dumas Drive  Amarillo TX 79029
GEO:35.2597959;-101.8331975
END:VEVENT
END:VCALENDAR