BEGIN:VCALENDAR
VERSION:2.0
PRODID:-//Tukios.com/
BEGIN:VEVENT
UID:6e3072f6-d846-42f6-915a-720bd54077e0@www.boxwellbrothers.com
DTSTAMP:20260422T164623Z
DTSTART:20260425T213000Z
DTEND:20260425T223000Z
SUMMARY:Funeral Service
DESCRIPTION:
URL:https://www.boxwellbrothers.com/obituaries/reyes-arzabala-enriquez-reyes
LOCATION: 2800 Paramount Blvd  Amarillo TX 79109
GEO:35.1830509;-101.8758092
END:VEVENT
END:VCALENDAR