BEGIN:VCALENDAR
VERSION:2.0
PRODID:-//Tukios.com/
BEGIN:VEVENT
UID:6f742a32-00e6-48c2-988b-a7952886d4f4@www.boxwellbrothers.com
DTSTAMP:20260421T190256Z
DTSTART:20260423T190000Z
DTEND:20260423T200000Z
SUMMARY:Memorial Service
DESCRIPTION:
URL:https://www.boxwellbrothers.com/obituaries/treva-mann
LOCATION: 6100 S Soncy Rd  Amarillo TX 79119
GEO:35.1453642;-101.9403104
END:VEVENT
END:VCALENDAR